BEGIN:VCALENDAR
VERSION:2.0
PRODID:-//Sri Saddhatissa International Buddhist Centre - ECPv6.15.12.2//NONSGML v1.0//EN
CALSCALE:GREGORIAN
METHOD:PUBLISH
X-ORIGINAL-URL:https://ssibc.org
X-WR-CALDESC:Events for Sri Saddhatissa International Buddhist Centre
REFRESH-INTERVAL;VALUE=DURATION:PT1H
X-Robots-Tag:noindex
X-PUBLISHED-TTL:PT1H
BEGIN:VTIMEZONE
TZID:Europe/London
BEGIN:DAYLIGHT
TZOFFSETFROM:+0000
TZOFFSETTO:+0100
TZNAME:BST
DTSTART:20250330T010000
END:DAYLIGHT
BEGIN:STANDARD
TZOFFSETFROM:+0100
TZOFFSETTO:+0000
TZNAME:GMT
DTSTART:20251026T010000
END:STANDARD
BEGIN:DAYLIGHT
TZOFFSETFROM:+0000
TZOFFSETTO:+0100
TZNAME:BST
DTSTART:20260329T010000
END:DAYLIGHT
BEGIN:STANDARD
TZOFFSETFROM:+0100
TZOFFSETTO:+0000
TZNAME:GMT
DTSTART:20261025T010000
END:STANDARD
BEGIN:DAYLIGHT
TZOFFSETFROM:+0000
TZOFFSETTO:+0100
TZNAME:BST
DTSTART:20270328T010000
END:DAYLIGHT
BEGIN:STANDARD
TZOFFSETFROM:+0100
TZOFFSETTO:+0000
TZNAME:GMT
DTSTART:20271031T010000
END:STANDARD
END:VTIMEZONE
BEGIN:VEVENT
DTSTART;VALUE=DATE:20260101
DTEND;VALUE=DATE:20260102
DTSTAMP:20260419T210109
CREATED:20251129T185657Z
LAST-MODIFIED:20251129T185657Z
UID:4664-1767225600-1767311999@ssibc.org
SUMMARY:New Year Day
DESCRIPTION:January 1 is celebrated as the New Year at the Śrī Saddhātissa International Buddhist Centre with the chanting of paritta as blessings. Throughout the day\, devotees attend religious activities dressed in white and ceremonial dresses. Traditional delicacies along with milk rice are brought and consumed. \n 
URL:https://ssibc.org/event/new-year-day-2026/
LOCATION:Śrī Saddhātissa International Buddhist Centre\, 309–311 Kingsbury Road\, London\, NW9 9PE\, United Kingdom
CATEGORIES:Annually,Cultural Activity,Festival,Religious Ceremony,Temple,Traditions
ATTACH;FMTTYPE=image/jpeg:https://ssibc.org/wp-content/uploads/2023/12/4443236_orig.jpeg
ORGANIZER;CN="%C5%9Ar%C4%AB Saddh%C4%81tissa International Buddhist Centre":MAILTO:ssibc@outlook.com
END:VEVENT
END:VCALENDAR