BEGIN:VCALENDAR
VERSION:2.0
PRODID:-//Sri Saddhatissa International Buddhist Centre - ECPv6.15.12.2//NONSGML v1.0//EN
CALSCALE:GREGORIAN
METHOD:PUBLISH
X-ORIGINAL-URL:https://ssibc.org
X-WR-CALDESC:Events for Sri Saddhatissa International Buddhist Centre
REFRESH-INTERVAL;VALUE=DURATION:PT1H
X-Robots-Tag:noindex
X-PUBLISHED-TTL:PT1H
BEGIN:VTIMEZONE
TZID:Europe/London
BEGIN:DAYLIGHT
TZOFFSETFROM:+0000
TZOFFSETTO:+0100
TZNAME:BST
DTSTART:20200329T010000
END:DAYLIGHT
BEGIN:STANDARD
TZOFFSETFROM:+0100
TZOFFSETTO:+0000
TZNAME:GMT
DTSTART:20201025T010000
END:STANDARD
BEGIN:DAYLIGHT
TZOFFSETFROM:+0000
TZOFFSETTO:+0100
TZNAME:BST
DTSTART:20210328T010000
END:DAYLIGHT
BEGIN:STANDARD
TZOFFSETFROM:+0100
TZOFFSETTO:+0000
TZNAME:GMT
DTSTART:20211031T010000
END:STANDARD
BEGIN:DAYLIGHT
TZOFFSETFROM:+0000
TZOFFSETTO:+0100
TZNAME:BST
DTSTART:20220327T010000
END:DAYLIGHT
BEGIN:STANDARD
TZOFFSETFROM:+0100
TZOFFSETTO:+0000
TZNAME:GMT
DTSTART:20221030T010000
END:STANDARD
BEGIN:DAYLIGHT
TZOFFSETFROM:+0000
TZOFFSETTO:+0100
TZNAME:BST
DTSTART:20230326T010000
END:DAYLIGHT
BEGIN:STANDARD
TZOFFSETFROM:+0100
TZOFFSETTO:+0000
TZNAME:GMT
DTSTART:20231029T010000
END:STANDARD
BEGIN:DAYLIGHT
TZOFFSETFROM:+0000
TZOFFSETTO:+0100
TZNAME:BST
DTSTART:20240331T010000
END:DAYLIGHT
BEGIN:STANDARD
TZOFFSETFROM:+0100
TZOFFSETTO:+0000
TZNAME:GMT
DTSTART:20241027T010000
END:STANDARD
BEGIN:DAYLIGHT
TZOFFSETFROM:+0000
TZOFFSETTO:+0100
TZNAME:BST
DTSTART:20250330T010000
END:DAYLIGHT
BEGIN:STANDARD
TZOFFSETFROM:+0100
TZOFFSETTO:+0000
TZNAME:GMT
DTSTART:20251026T010000
END:STANDARD
BEGIN:DAYLIGHT
TZOFFSETFROM:+0000
TZOFFSETTO:+0100
TZNAME:BST
DTSTART:20260329T010000
END:DAYLIGHT
BEGIN:STANDARD
TZOFFSETFROM:+0100
TZOFFSETTO:+0000
TZNAME:GMT
DTSTART:20261025T010000
END:STANDARD
BEGIN:DAYLIGHT
TZOFFSETFROM:+0000
TZOFFSETTO:+0100
TZNAME:BST
DTSTART:20270328T010000
END:DAYLIGHT
BEGIN:STANDARD
TZOFFSETFROM:+0100
TZOFFSETTO:+0000
TZNAME:GMT
DTSTART:20271031T010000
END:STANDARD
BEGIN:DAYLIGHT
TZOFFSETFROM:+0000
TZOFFSETTO:+0100
TZNAME:BST
DTSTART:20280326T010000
END:DAYLIGHT
BEGIN:STANDARD
TZOFFSETFROM:+0100
TZOFFSETTO:+0000
TZNAME:GMT
DTSTART:20281029T010000
END:STANDARD
BEGIN:DAYLIGHT
TZOFFSETFROM:+0000
TZOFFSETTO:+0100
TZNAME:BST
DTSTART:20290325T010000
END:DAYLIGHT
BEGIN:STANDARD
TZOFFSETFROM:+0100
TZOFFSETTO:+0000
TZNAME:GMT
DTSTART:20291028T010000
END:STANDARD
BEGIN:DAYLIGHT
TZOFFSETFROM:+0000
TZOFFSETTO:+0100
TZNAME:BST
DTSTART:20300331T010000
END:DAYLIGHT
BEGIN:STANDARD
TZOFFSETFROM:+0100
TZOFFSETTO:+0000
TZNAME:GMT
DTSTART:20301027T010000
END:STANDARD
BEGIN:DAYLIGHT
TZOFFSETFROM:+0000
TZOFFSETTO:+0100
TZNAME:BST
DTSTART:20310330T010000
END:DAYLIGHT
BEGIN:STANDARD
TZOFFSETFROM:+0100
TZOFFSETTO:+0000
TZNAME:GMT
DTSTART:20311026T010000
END:STANDARD
END:VTIMEZONE
BEGIN:VTIMEZONE
TZID:UTC
BEGIN:STANDARD
TZOFFSETFROM:+0000
TZOFFSETTO:+0000
TZNAME:UTC
DTSTART:20230101T000000
END:STANDARD
END:VTIMEZONE
BEGIN:VEVENT
DTSTART;TZID=Europe/London:20210311T000000
DTEND;TZID=Europe/London:20300323T235900
DTSTAMP:20260420T150048
CREATED:20210610T113518Z
LAST-MODIFIED:20210719T074652Z
UID:2384-1615420800-1900540740@ssibc.org
SUMMARY:Buddha Pūjā & Chanting
DESCRIPTION:Buddha Pūjā & Chanting take place every day at the Śrī Saddhātissa International Buddhist Centre.
URL:https://ssibc.org/event/buddha-puja-chanting/
LOCATION:Śrī Saddhātissa International Buddhist Centre\, 309–311 Kingsbury Road\, London\, NW9 9PE\, United Kingdom
CATEGORIES:Daily,Meditation,Temple,Traditions
ATTACH;FMTTYPE=image/jpeg:https://ssibc.org/wp-content/uploads/2021/07/IMG_0950-scaled.jpg
ORGANIZER;CN="%C5%9Ar%C4%AB Saddh%C4%81tissa International Buddhist Centre":MAILTO:ssibc@outlook.com
END:VEVENT
BEGIN:VEVENT
DTSTART;TZID=Europe/London:20210311T073000
DTEND;TZID=Europe/London:20301231T235900
DTSTAMP:20260420T150048
CREATED:20210610T113911Z
LAST-MODIFIED:20210719T074520Z
UID:2386-1615447800-1924991940@ssibc.org
SUMMARY:Samatha Meditation
DESCRIPTION:Samatha Meditation practice session.
URL:https://ssibc.org/event/samatha-meditation/
LOCATION:Śrī Saddhātissa International Buddhist Centre\, 309–311 Kingsbury Road\, London\, NW9 9PE\, United Kingdom
CATEGORIES:Daily,Meditation,Temple,Traditions
ATTACH;FMTTYPE=image/jpeg:https://ssibc.org/wp-content/uploads/2021/07/IMG_1632-scaled.jpg
ORGANIZER;CN="%C5%9Ar%C4%AB Saddh%C4%81tissa International Buddhist Centre":MAILTO:ssibc@outlook.com
END:VEVENT
BEGIN:VEVENT
DTSTART;VALUE=DATE:20240225
DTEND;VALUE=DATE:20250217
DTSTAMP:20260420T150048
CREATED:20250109T090718Z
LAST-MODIFIED:20250109T090718Z
UID:4583-1708819200-1739750399@ssibc.org
SUMMARY:Navam Full Moon (Pōya) Day
DESCRIPTION:As usual Buddhist devotees observe the eight precepts. \nNavam Full Moon Poya Day holds special significance for Buddhists around the world\, as it commemorates several pivotal events in the life of the Buddha. Falling on the full moon day in the month of Navam\, typically in February\, this auspicious occasion is marked by a universal celebration of Buddhist teachings and principles. \nOne of the central events associated with Navam Poya is the gathering of the Buddha’s disciples\, known as the “Sangha\,” to witness the Buddha proclaim the fundamental principles of the Dhamma\, encapsulated in the Ovadapatimokkha. This discourse serves as a guide for monastic life\, emphasizing ethical conduct\, mindfulness\, and the path to enlightenment. \nNavam Poya also marks the spontaneous formation of the Mahasangha\, a community of enlightened monks who gathered without prior appointment. This assembly is symbolic of the unity and harmony within the Buddhist community\, fostering a sense of fraternity and shared purpose. \nDevotees worldwide observe Navam Poya Day by engaging in various religious activities. Temples become centers of vibrant religious ceremonies\, with devotees participating in meditation\, prayer sessions\, and acts of generosity. The emphasis on ethical conduct and spiritual development echoes throughout the day\, encouraging Buddhists to reflect on the teachings of the Buddha and strive towards personal transformation. \nAs the full moon casts its radiant glow\, it serves as a reminder of the enlightenment attained by the Buddha. The universal nature of Navam Poya encourages Buddhists of diverse cultures and backgrounds to come together in a shared celebration of wisdom\, compassion\, and the path to liberation. It is a day for introspection\, communal harmony\, and a reaffirmation of the timeless teachings that continue to inspire and guide followers on their spiritual journey.
URL:https://ssibc.org/event/navam-full-moon-poya-day-3/
LOCATION:Śrī Saddhātissa International Buddhist Centre\, 309–311 Kingsbury Road\, London\, NW9 9PE\, United Kingdom
CATEGORIES:Annually,Temple,Traditions
ATTACH;FMTTYPE=image/jpeg:https://ssibc.org/wp-content/uploads/2021/07/IMG_9802-scaled.jpg
ORGANIZER;CN="%C5%9Ar%C4%AB Saddh%C4%81tissa International Buddhist Centre":MAILTO:ssibc@outlook.com
END:VEVENT
BEGIN:VEVENT
DTSTART;VALUE=DATE:20241005
DTEND;VALUE=DATE:20241006
DTSTAMP:20260420T150048
CREATED:20241003T104335Z
LAST-MODIFIED:20241003T104335Z
UID:4555-1728086400-1728172799@ssibc.org
SUMMARY:Series of Vassana Dhamma Sermon - 2024
DESCRIPTION:
URL:https://ssibc.org/event/series-of-vassana-dhamma-sermon-2024/
LOCATION:Śrī Saddhātissa International Buddhist Centre\, 309–311 Kingsbury Road\, London\, NW9 9PE\, United Kingdom
CATEGORIES:Annually,Temple,Traditions
ATTACH;FMTTYPE=image/jpeg:https://ssibc.org/wp-content/uploads/2023/06/rsz_kathina_.jpg
ORGANIZER;CN="%C5%9Ar%C4%AB Saddh%C4%81tissa International Buddhist Centre":MAILTO:ssibc@outlook.com
END:VEVENT
BEGIN:VEVENT
DTSTART;VALUE=DATE:20241026
DTEND;VALUE=DATE:20241027
DTSTAMP:20260420T150048
CREATED:20231224T194304Z
LAST-MODIFIED:20231224T194405Z
UID:4530-1729900800-1729987199@ssibc.org
SUMMARY:Aṭavisi Buddha Pūjā
DESCRIPTION:An occasional ceremony held at the Śrī Saddhātissa International Buddhist Centre as an offering to the twenty-eight Buddhas.
URL:https://ssibc.org/event/a%e1%b9%adavisi-buddha-puja/
LOCATION:Śrī Saddhātissa International Buddhist Centre\, 309–311 Kingsbury Road\, London\, NW9 9PE\, United Kingdom
CATEGORIES:Annually,Temple,Traditions
ATTACH;FMTTYPE=image/jpeg:https://ssibc.org/wp-content/uploads/2023/01/Atavisi.jpg
ORGANIZER;CN="%C5%9Ar%C4%AB Saddh%C4%81tissa International Buddhist Centre":MAILTO:ssibc@outlook.com
END:VEVENT
BEGIN:VEVENT
DTSTART;VALUE=DATE:20241027
DTEND;VALUE=DATE:20241028
DTSTAMP:20260420T150048
CREATED:20231224T194555Z
LAST-MODIFIED:20241023T130120Z
UID:4534-1729987200-1730073599@ssibc.org
SUMMARY:Kathina Chivara Puja
DESCRIPTION:Kathina Chivara Puja is a significant religious event celebrated in various Buddhist traditions around the world. It marks the conclusion of the three-month Vassa (rain retreat) period observed by monks during the monsoon season. The term “Kathina” refers to a wooden frame used to support robes\, while “Chivara” symbolizes the robes themselves. \nDuring this event\, lay devotees gather at Buddhist monasteries to offer new robes and other necessities to the monks as a way of expressing gratitude for their teachings and guidance. The ceremony holds great importance as it strengthens the bond between the monastic community and the lay followers\, emphasizing the spirit of generosity and support. \nThe festivities typically begin with a colorful procession\, where lay devotees carry the Kathina robe frame\, accompanied by traditional music and chanting. Once inside the monastery\, a formal offering ceremony takes place\, during which the new robes and other requisites are presented to the monks. This act of giving is believed to accumulate merit for the devotees and create positive karma. \nApart from the ceremonial aspect\, Kathina Chivara Puja is also an occasion for spiritual reflection and renewal. It provides an opportunity for both monks and lay followers to come together\, engage in meditation\, listen to Dhamma talks\, and engage in acts of virtuous practice. The event fosters a sense of community and solidarity within the Buddhist tradition\, encouraging individuals to deepen their commitment to the path of enlightenment. \nOverall\, Kathina Chivara Puja serves as a joyous celebration of generosity\, gratitude\, and spiritual devotion\, highlighting the symbiotic relationship between the monastic order and the lay community in the Buddhist tradition. \n 
URL:https://ssibc.org/event/kathina-chivara-puja-2/
LOCATION:Śrī Saddhātissa International Buddhist Centre\, 309–311 Kingsbury Road\, London\, NW9 9PE\, United Kingdom
CATEGORIES:Annually,Temple,Traditions
ATTACH;FMTTYPE=image/jpeg:https://ssibc.org/wp-content/uploads/2023/06/rsz_kathina_.jpg
ORGANIZER;CN="%C5%9Ar%C4%AB Saddh%C4%81tissa International Buddhist Centre":MAILTO:ssibc@outlook.com
END:VEVENT
END:VCALENDAR