BEGIN:VCALENDAR
VERSION:2.0
PRODID:-//Sri Saddhatissa International Buddhist Centre - ECPv6.15.12.2//NONSGML v1.0//EN
CALSCALE:GREGORIAN
METHOD:PUBLISH
X-WR-CALNAME:Sri Saddhatissa International Buddhist Centre
X-ORIGINAL-URL:https://ssibc.org
X-WR-CALDESC:Events for Sri Saddhatissa International Buddhist Centre
REFRESH-INTERVAL;VALUE=DURATION:PT1H
X-Robots-Tag:noindex
X-PUBLISHED-TTL:PT1H
BEGIN:VTIMEZONE
TZID:Europe/London
BEGIN:DAYLIGHT
TZOFFSETFROM:+0000
TZOFFSETTO:+0100
TZNAME:BST
DTSTART:20210328T010000
END:DAYLIGHT
BEGIN:STANDARD
TZOFFSETFROM:+0100
TZOFFSETTO:+0000
TZNAME:GMT
DTSTART:20211031T010000
END:STANDARD
BEGIN:DAYLIGHT
TZOFFSETFROM:+0000
TZOFFSETTO:+0100
TZNAME:BST
DTSTART:20220327T010000
END:DAYLIGHT
BEGIN:STANDARD
TZOFFSETFROM:+0100
TZOFFSETTO:+0000
TZNAME:GMT
DTSTART:20221030T010000
END:STANDARD
BEGIN:DAYLIGHT
TZOFFSETFROM:+0000
TZOFFSETTO:+0100
TZNAME:BST
DTSTART:20230326T010000
END:DAYLIGHT
BEGIN:STANDARD
TZOFFSETFROM:+0100
TZOFFSETTO:+0000
TZNAME:GMT
DTSTART:20231029T010000
END:STANDARD
END:VTIMEZONE
BEGIN:VEVENT
DTSTART;VALUE=DATE:20221030
DTEND;VALUE=DATE:20221031
DTSTAMP:20260422T060655
CREATED:20210610T103133Z
LAST-MODIFIED:20220518T214703Z
UID:2373-1667088000-1667174399@ssibc.org
SUMMARY:Vap Full Moon (Pōya) Day & Kaṭhina Cīvara Pūjā
DESCRIPTION:As usual Buddhist devotees observe the eight precepts. One important narrative is that on the Vap Full Moon Day\, which marks the end of the three-month rain-retreat\, the Buddha had taught the Abhidhamma to the gods of the Tāvatiṃsa. The legend is mythologically as well as symbolically important. The historical Buddha’s mother\, Queen Māyā\, who passed away after a week of his birth\, was born in the celestial abode of the Tāvatiṃsa bearing the name Santusita. The legend tells that the Buddha ascended to the Tāvatiṃsa to teach the Abhidhamma to Santusita for three months. The three-month rain retreat commences in the month of Äsala (July) and ends on the Vap Pōya Day
URL:https://ssibc.org/event/vap-full-moon-poya-day-and-kathina-civara-puja/
LOCATION:Śrī Saddhātissa International Buddhist Centre\, 309–311 Kingsbury Road\, London\, NW9 9PE\, United Kingdom
CATEGORIES:Annually,Meditation,Religious Ceremony,Temple,Traditions
ATTACH;FMTTYPE=image/jpeg:https://ssibc.org/wp-content/uploads/2021/06/Vap-Full-Moon.jpg
ORGANIZER;CN="%C5%9Ar%C4%AB Saddh%C4%81tissa International Buddhist Centre":MAILTO:ssibc@outlook.com
END:VEVENT
END:VCALENDAR