BEGIN:VCALENDAR
VERSION:2.0
PRODID:-//Sri Saddhatissa International Buddhist Centre - ECPv6.15.12.2//NONSGML v1.0//EN
CALSCALE:GREGORIAN
METHOD:PUBLISH
X-WR-CALNAME:Sri Saddhatissa International Buddhist Centre
X-ORIGINAL-URL:https://ssibc.org
X-WR-CALDESC:Events for Sri Saddhatissa International Buddhist Centre
REFRESH-INTERVAL;VALUE=DURATION:PT1H
X-Robots-Tag:noindex
X-PUBLISHED-TTL:PT1H
BEGIN:VTIMEZONE
TZID:Europe/London
BEGIN:DAYLIGHT
TZOFFSETFROM:+0000
TZOFFSETTO:+0100
TZNAME:BST
DTSTART:20240331T010000
END:DAYLIGHT
BEGIN:STANDARD
TZOFFSETFROM:+0100
TZOFFSETTO:+0000
TZNAME:GMT
DTSTART:20241027T010000
END:STANDARD
BEGIN:DAYLIGHT
TZOFFSETFROM:+0000
TZOFFSETTO:+0100
TZNAME:BST
DTSTART:20250330T010000
END:DAYLIGHT
BEGIN:STANDARD
TZOFFSETFROM:+0100
TZOFFSETTO:+0000
TZNAME:GMT
DTSTART:20251026T010000
END:STANDARD
BEGIN:DAYLIGHT
TZOFFSETFROM:+0000
TZOFFSETTO:+0100
TZNAME:BST
DTSTART:20260329T010000
END:DAYLIGHT
BEGIN:STANDARD
TZOFFSETFROM:+0100
TZOFFSETTO:+0000
TZNAME:GMT
DTSTART:20261025T010000
END:STANDARD
END:VTIMEZONE
BEGIN:VEVENT
DTSTART;VALUE=DATE:20250710
DTEND;VALUE=DATE:20250711
DTSTAMP:20260420T011211
CREATED:20250109T095104Z
LAST-MODIFIED:20250109T095104Z
UID:4604-1752105600-1752191999@ssibc.org
SUMMARY:Invitations For Rainy Retreat & Chanting Dhammachakkapavattana Sutta (Esala Full Moon Poya Day)
DESCRIPTION:Esala Full Moon Poya Day holds a special significance as it marks the beginning of the traditional Buddhist “Vassana” or rain retreat. During this auspicious time\, devoted Buddhists invite monks to observe a three-month retreat period in monasteries. The retreat is a period of intense meditation\, study\, and spiritual practice\, aimed at deepening their understanding and achieving higher levels of enlightenment. The act of inviting the monks is considered a meritorious deed\, fostering a strong bond between the laity and the monastic community. This sacred day serves as a reminder of the importance of dedicating oneself to spiritual growth and nurturing the Buddhist teachings in the pursuit of inner peace and liberation. \n 
URL:https://ssibc.org/event/invitations-for-rainy-retreat-chanting-dhammachakkapavattana-sutta-esala-full-moon-poya-day-3/
LOCATION:Śrī Saddhātissa International Buddhist Centre\, 309–311 Kingsbury Road\, London\, NW9 9PE\, United Kingdom
CATEGORIES:Annually,Festival,Religious Ceremony,Temple,Traditions
ATTACH;FMTTYPE=image/jpeg:https://ssibc.org/wp-content/uploads/2023/06/Vas-Aradana-scaled.jpg
ORGANIZER;CN="%C5%9Ar%C4%AB Saddh%C4%81tissa International Buddhist Centre":MAILTO:ssibc@outlook.com
END:VEVENT
END:VCALENDAR