BEGIN:VCALENDAR
VERSION:2.0
PRODID:-//Sri Saddhatissa International Buddhist Centre - ECPv6.15.12.2//NONSGML v1.0//EN
CALSCALE:GREGORIAN
METHOD:PUBLISH
X-ORIGINAL-URL:https://ssibc.org
X-WR-CALDESC:Events for Sri Saddhatissa International Buddhist Centre
REFRESH-INTERVAL;VALUE=DURATION:PT1H
X-Robots-Tag:noindex
X-PUBLISHED-TTL:PT1H
BEGIN:VTIMEZONE
TZID:UTC
BEGIN:STANDARD
TZOFFSETFROM:+0000
TZOFFSETTO:+0000
TZNAME:UTC
DTSTART:20230101T000000
END:STANDARD
END:VTIMEZONE
BEGIN:VEVENT
DTSTART;VALUE=DATE:20240225
DTEND;VALUE=DATE:20250217
DTSTAMP:20260420T233554
CREATED:20250109T090718Z
LAST-MODIFIED:20250109T090718Z
UID:4583-1708819200-1739750399@ssibc.org
SUMMARY:Navam Full Moon (Pōya) Day
DESCRIPTION:As usual Buddhist devotees observe the eight precepts. \nNavam Full Moon Poya Day holds special significance for Buddhists around the world\, as it commemorates several pivotal events in the life of the Buddha. Falling on the full moon day in the month of Navam\, typically in February\, this auspicious occasion is marked by a universal celebration of Buddhist teachings and principles. \nOne of the central events associated with Navam Poya is the gathering of the Buddha’s disciples\, known as the “Sangha\,” to witness the Buddha proclaim the fundamental principles of the Dhamma\, encapsulated in the Ovadapatimokkha. This discourse serves as a guide for monastic life\, emphasizing ethical conduct\, mindfulness\, and the path to enlightenment. \nNavam Poya also marks the spontaneous formation of the Mahasangha\, a community of enlightened monks who gathered without prior appointment. This assembly is symbolic of the unity and harmony within the Buddhist community\, fostering a sense of fraternity and shared purpose. \nDevotees worldwide observe Navam Poya Day by engaging in various religious activities. Temples become centers of vibrant religious ceremonies\, with devotees participating in meditation\, prayer sessions\, and acts of generosity. The emphasis on ethical conduct and spiritual development echoes throughout the day\, encouraging Buddhists to reflect on the teachings of the Buddha and strive towards personal transformation. \nAs the full moon casts its radiant glow\, it serves as a reminder of the enlightenment attained by the Buddha. The universal nature of Navam Poya encourages Buddhists of diverse cultures and backgrounds to come together in a shared celebration of wisdom\, compassion\, and the path to liberation. It is a day for introspection\, communal harmony\, and a reaffirmation of the timeless teachings that continue to inspire and guide followers on their spiritual journey.
URL:https://ssibc.org/event/navam-full-moon-poya-day-3/
LOCATION:Śrī Saddhātissa International Buddhist Centre\, 309–311 Kingsbury Road\, London\, NW9 9PE\, United Kingdom
CATEGORIES:Annually,Temple,Traditions
ATTACH;FMTTYPE=image/jpeg:https://ssibc.org/wp-content/uploads/2021/07/IMG_9802-scaled.jpg
ORGANIZER;CN="%C5%9Ar%C4%AB Saddh%C4%81tissa International Buddhist Centre":MAILTO:ssibc@outlook.com
END:VEVENT
END:VCALENDAR